BEGIN:VCALENDAR
VERSION:2.0
PRODID:-//Pinsim - ECPv6.13.2.1//NONSGML v1.0//EN
CALSCALE:GREGORIAN
METHOD:PUBLISH
X-WR-CALNAME:Pinsim
X-ORIGINAL-URL:https://pinsimmusic.com
X-WR-CALDESC:Events for Pinsim
REFRESH-INTERVAL;VALUE=DURATION:PT1H
X-Robots-Tag:noindex
X-PUBLISHED-TTL:PT1H
BEGIN:VTIMEZONE
TZID:Asia/Singapore
BEGIN:STANDARD
TZOFFSETFROM:+0800
TZOFFSETTO:+0800
TZNAME:+08
DTSTART:20260101T000000
END:STANDARD
END:VTIMEZONE
BEGIN:VEVENT
DTSTART;TZID=Asia/Singapore:20260109T100000
DTEND;TZID=Asia/Singapore:20260109T180000
DTSTAMP:20260423T172311
CREATED:20251104T153813Z
LAST-MODIFIED:20251105T103110Z
UID:12950-1767952800-1767981600@pinsimmusic.com
SUMMARY:Introduction to Music Production Workshop by JPAX Music
DESCRIPTION:Popular Meets Classical: music by Astor Piazzolla and George Gershwin  Step into an evening of refined brilliance with Mei Lin Hii\, where the seductive rhythms of Astor Piazzolla meet the timeless sophistication of George Gershwin. From the haunting lyricism of Adiós Nonino to the glittering virtuosity of Earl Wild’s Gershwin etudes\, and the iconic sweep of Rhapsody in Blue\, this exquisite programme unfolds as a celebration of elegance\, passion\, and artistry—culminating in the intoxicating pulse of Libertango. Refreshing welcome drinks specially crafted by Pinsim will be served upon your arrival. A selection of delectable sweet temptations awaits you during the intermission Our brand-new LED screen is the crowning jewel—confirm it’s gonna blow you away with its jaw-dropping special effects!  Hii Mei Lin | Pianist Mei Lin Hii is an award-winning Malaysian pianist of international acclaim\, recognised as Outstanding Woman Pianist following her Rubinstein Award in New York. A top prizewinner at major international competitions\, she made her debut at Carnegie Hall and has since performed extensively across the United States\, Europe\, Asia\, and Australia. Based in Kuala Lumpur since 2010\, Mei Lin is known for her dynamic cross-disciplinary collaborations\, working with artists ranging from visual and paper artists to hip-hop dancers. Her projects include Sonus Luminus\, a light and sound collaboration with lighting designer Jun Ong\, and she curates the Troika Sky Dining Real Food and Music Series\, partnering with luxury brands such as Dom Pérignon\, Hennessy\, and Krug. She trained at the Manhattan School of Music under renowned pedagogue Zenon Fishbein\, and further refined her artistry through masterclasses with distinguished musicians including Leon Fleisher\, Byron Janis\, and Joseph Kalichstein. She also worked closely with Russian piano master Alexis Golovine in Geneva. An accomplished chamber musician\, Mei Lin has been coached by members of the Juilliard String Quartet and the Beaux Arts Trio\, and has collaborated with artists from the Metropolitan Opera and leading international performers across disciplines. She has performed alongside international artists such as Joja Wendt\, Martin Tingvall\, Caroline Fischer\, Axel Zwingenberger\, and in chamber music with Leslie Tan\, Matyas Major\, Ergys Koni\, William Day\, Elizabeth Tan and many more. Personally invited by Paolo Fazioli\, Mei Lin recorded the Goldberg Variations at the Fazioli Concert Hall in Italy\, further affirming her standing as a respected international artist. Mei Lin serves as Artistic Advisor for the Illy Piano Academy and is a guest artist and coach at the International School of Kuala Lumpur. In 2024\, she was featured in Women of Power by Prestige Malaysia. Programme: Astor Piazzolla : Four SeasonsVirtuoso etudes after Gershwin by Earl Wild⁃Liza⁃Embraceable You⁃The Man I Love⁃Fascinating Rhythm -Intermission- Astor Piazzolla : Adios NoninoGeorge Gershwin : Rhapsody In BlueAstor Piazzolla : Libertango  Event Details 12th June 2026 (Friday) 7:30PM to 9:30 PM Block A\, Level 2\, #0314-0315 Kingwood Theatre @ Eco Galleria Iskandar Puteri JBGoogle Map: https://maps.app.goo.gl/TmjsUf2AxZ41Ehmc7 Ticket Link: https://pinsimmusic.com/product/popular-meets-classical-music-by-astor-piazzolla-and-george-gershwin/ Contact: 012-315 1431 								\n				\n				\n				\n									\n					\n						\n									Buy Ticket
URL:https://pinsimmusic.com/event/introduction-to-music-production-workshop-by-jpax-music/
CATEGORIES:Piano,Seminar
ATTACH;FMTTYPE=image/png:https://pinsimmusic.com/wp-content/uploads/2025/11/Jpax-Music-Workshop-Poster.png
END:VEVENT
BEGIN:VEVENT
DTSTART;TZID=Asia/Singapore:20260118T123000
DTEND;TZID=Asia/Singapore:20260118T173000
DTSTAMP:20260423T172311
CREATED:20251117T054759Z
LAST-MODIFIED:20251118T151118Z
UID:13286-1768739400-1768757400@pinsimmusic.com
SUMMARY:Decoding Sound: A Music Workshop Inspired by the Squid Game
DESCRIPTION:Popular Meets Classical: music by Astor Piazzolla and George Gershwin  Step into an evening of refined brilliance with Mei Lin Hii\, where the seductive rhythms of Astor Piazzolla meet the timeless sophistication of George Gershwin. From the haunting lyricism of Adiós Nonino to the glittering virtuosity of Earl Wild’s Gershwin etudes\, and the iconic sweep of Rhapsody in Blue\, this exquisite programme unfolds as a celebration of elegance\, passion\, and artistry—culminating in the intoxicating pulse of Libertango. Refreshing welcome drinks specially crafted by Pinsim will be served upon your arrival. A selection of delectable sweet temptations awaits you during the intermission Our brand-new LED screen is the crowning jewel—confirm it’s gonna blow you away with its jaw-dropping special effects!  Hii Mei Lin | Pianist Mei Lin Hii is an award-winning Malaysian pianist of international acclaim\, recognised as Outstanding Woman Pianist following her Rubinstein Award in New York. A top prizewinner at major international competitions\, she made her debut at Carnegie Hall and has since performed extensively across the United States\, Europe\, Asia\, and Australia. Based in Kuala Lumpur since 2010\, Mei Lin is known for her dynamic cross-disciplinary collaborations\, working with artists ranging from visual and paper artists to hip-hop dancers. Her projects include Sonus Luminus\, a light and sound collaboration with lighting designer Jun Ong\, and she curates the Troika Sky Dining Real Food and Music Series\, partnering with luxury brands such as Dom Pérignon\, Hennessy\, and Krug. She trained at the Manhattan School of Music under renowned pedagogue Zenon Fishbein\, and further refined her artistry through masterclasses with distinguished musicians including Leon Fleisher\, Byron Janis\, and Joseph Kalichstein. She also worked closely with Russian piano master Alexis Golovine in Geneva. An accomplished chamber musician\, Mei Lin has been coached by members of the Juilliard String Quartet and the Beaux Arts Trio\, and has collaborated with artists from the Metropolitan Opera and leading international performers across disciplines. She has performed alongside international artists such as Joja Wendt\, Martin Tingvall\, Caroline Fischer\, Axel Zwingenberger\, and in chamber music with Leslie Tan\, Matyas Major\, Ergys Koni\, William Day\, Elizabeth Tan and many more. Personally invited by Paolo Fazioli\, Mei Lin recorded the Goldberg Variations at the Fazioli Concert Hall in Italy\, further affirming her standing as a respected international artist. Mei Lin serves as Artistic Advisor for the Illy Piano Academy and is a guest artist and coach at the International School of Kuala Lumpur. In 2024\, she was featured in Women of Power by Prestige Malaysia. Programme: Astor Piazzolla : Four SeasonsVirtuoso etudes after Gershwin by Earl Wild⁃Liza⁃Embraceable You⁃The Man I Love⁃Fascinating Rhythm -Intermission- Astor Piazzolla : Adios NoninoGeorge Gershwin : Rhapsody In BlueAstor Piazzolla : Libertango  Event Details 12th June 2026 (Friday) 7:30PM to 9:30 PM Block A\, Level 2\, #0314-0315 Kingwood Theatre @ Eco Galleria Iskandar Puteri JBGoogle Map: https://maps.app.goo.gl/TmjsUf2AxZ41Ehmc7 Ticket Link: https://pinsimmusic.com/product/popular-meets-classical-music-by-astor-piazzolla-and-george-gershwin/ Contact: 012-315 1431 								\n				\n				\n				\n									\n					\n						\n									Buy Ticket
URL:https://pinsimmusic.com/event/decoding-sound-a-music-workshop-inspired-by-the-squid-game/
CATEGORIES:Game,Piano,workshop
ATTACH;FMTTYPE=image/png:https://pinsimmusic.com/wp-content/uploads/2025/11/Decoding-music-Poster.png
END:VEVENT
BEGIN:VEVENT
DTSTART;TZID=Asia/Singapore:20260124T193000
DTEND;TZID=Asia/Singapore:20260124T213000
DTSTAMP:20260423T172311
CREATED:20251126T075044Z
LAST-MODIFIED:20251129T052620Z
UID:13355-1769283000-1769290200@pinsimmusic.com
SUMMARY:Echoes of Wind\, Whispers of Dreams
DESCRIPTION:Popular Meets Classical: music by Astor Piazzolla and George Gershwin  Step into an evening of refined brilliance with Mei Lin Hii\, where the seductive rhythms of Astor Piazzolla meet the timeless sophistication of George Gershwin. From the haunting lyricism of Adiós Nonino to the glittering virtuosity of Earl Wild’s Gershwin etudes\, and the iconic sweep of Rhapsody in Blue\, this exquisite programme unfolds as a celebration of elegance\, passion\, and artistry—culminating in the intoxicating pulse of Libertango. Refreshing welcome drinks specially crafted by Pinsim will be served upon your arrival. A selection of delectable sweet temptations awaits you during the intermission Our brand-new LED screen is the crowning jewel—confirm it’s gonna blow you away with its jaw-dropping special effects!  Hii Mei Lin | Pianist Mei Lin Hii is an award-winning Malaysian pianist of international acclaim\, recognised as Outstanding Woman Pianist following her Rubinstein Award in New York. A top prizewinner at major international competitions\, she made her debut at Carnegie Hall and has since performed extensively across the United States\, Europe\, Asia\, and Australia. Based in Kuala Lumpur since 2010\, Mei Lin is known for her dynamic cross-disciplinary collaborations\, working with artists ranging from visual and paper artists to hip-hop dancers. Her projects include Sonus Luminus\, a light and sound collaboration with lighting designer Jun Ong\, and she curates the Troika Sky Dining Real Food and Music Series\, partnering with luxury brands such as Dom Pérignon\, Hennessy\, and Krug. She trained at the Manhattan School of Music under renowned pedagogue Zenon Fishbein\, and further refined her artistry through masterclasses with distinguished musicians including Leon Fleisher\, Byron Janis\, and Joseph Kalichstein. She also worked closely with Russian piano master Alexis Golovine in Geneva. An accomplished chamber musician\, Mei Lin has been coached by members of the Juilliard String Quartet and the Beaux Arts Trio\, and has collaborated with artists from the Metropolitan Opera and leading international performers across disciplines. She has performed alongside international artists such as Joja Wendt\, Martin Tingvall\, Caroline Fischer\, Axel Zwingenberger\, and in chamber music with Leslie Tan\, Matyas Major\, Ergys Koni\, William Day\, Elizabeth Tan and many more. Personally invited by Paolo Fazioli\, Mei Lin recorded the Goldberg Variations at the Fazioli Concert Hall in Italy\, further affirming her standing as a respected international artist. Mei Lin serves as Artistic Advisor for the Illy Piano Academy and is a guest artist and coach at the International School of Kuala Lumpur. In 2024\, she was featured in Women of Power by Prestige Malaysia. Programme: Astor Piazzolla : Four SeasonsVirtuoso etudes after Gershwin by Earl Wild⁃Liza⁃Embraceable You⁃The Man I Love⁃Fascinating Rhythm -Intermission- Astor Piazzolla : Adios NoninoGeorge Gershwin : Rhapsody In BlueAstor Piazzolla : Libertango  Event Details 12th June 2026 (Friday) 7:30PM to 9:30 PM Block A\, Level 2\, #0314-0315 Kingwood Theatre @ Eco Galleria Iskandar Puteri JBGoogle Map: https://maps.app.goo.gl/TmjsUf2AxZ41Ehmc7 Ticket Link: https://pinsimmusic.com/product/popular-meets-classical-music-by-astor-piazzolla-and-george-gershwin/ Contact: 012-315 1431 								\n				\n				\n				\n									\n					\n						\n									Buy Ticket
URL:https://pinsimmusic.com/event/echoes-of-wind-whispers-of-dreams-2/
CATEGORIES:Concert,Piano
ATTACH;FMTTYPE=image/jpeg:https://pinsimmusic.com/wp-content/uploads/2025/11/Echoes_of_Wind_Whispers_of_Dreams_Encore-scaled.jpg
END:VEVENT
BEGIN:VEVENT
DTSTART;TZID=Asia/Singapore:20260201T130000
DTEND;TZID=Asia/Singapore:20260201T150000
DTSTAMP:20260423T172311
CREATED:20251129T161441Z
LAST-MODIFIED:20251130T163741Z
UID:13746-1769950800-1769958000@pinsimmusic.com
SUMMARY:Sonata Immersion
DESCRIPTION:Popular Meets Classical: music by Astor Piazzolla and George Gershwin  Step into an evening of refined brilliance with Mei Lin Hii\, where the seductive rhythms of Astor Piazzolla meet the timeless sophistication of George Gershwin. From the haunting lyricism of Adiós Nonino to the glittering virtuosity of Earl Wild’s Gershwin etudes\, and the iconic sweep of Rhapsody in Blue\, this exquisite programme unfolds as a celebration of elegance\, passion\, and artistry—culminating in the intoxicating pulse of Libertango. Refreshing welcome drinks specially crafted by Pinsim will be served upon your arrival. A selection of delectable sweet temptations awaits you during the intermission Our brand-new LED screen is the crowning jewel—confirm it’s gonna blow you away with its jaw-dropping special effects!  Hii Mei Lin | Pianist Mei Lin Hii is an award-winning Malaysian pianist of international acclaim\, recognised as Outstanding Woman Pianist following her Rubinstein Award in New York. A top prizewinner at major international competitions\, she made her debut at Carnegie Hall and has since performed extensively across the United States\, Europe\, Asia\, and Australia. Based in Kuala Lumpur since 2010\, Mei Lin is known for her dynamic cross-disciplinary collaborations\, working with artists ranging from visual and paper artists to hip-hop dancers. Her projects include Sonus Luminus\, a light and sound collaboration with lighting designer Jun Ong\, and she curates the Troika Sky Dining Real Food and Music Series\, partnering with luxury brands such as Dom Pérignon\, Hennessy\, and Krug. She trained at the Manhattan School of Music under renowned pedagogue Zenon Fishbein\, and further refined her artistry through masterclasses with distinguished musicians including Leon Fleisher\, Byron Janis\, and Joseph Kalichstein. She also worked closely with Russian piano master Alexis Golovine in Geneva. An accomplished chamber musician\, Mei Lin has been coached by members of the Juilliard String Quartet and the Beaux Arts Trio\, and has collaborated with artists from the Metropolitan Opera and leading international performers across disciplines. She has performed alongside international artists such as Joja Wendt\, Martin Tingvall\, Caroline Fischer\, Axel Zwingenberger\, and in chamber music with Leslie Tan\, Matyas Major\, Ergys Koni\, William Day\, Elizabeth Tan and many more. Personally invited by Paolo Fazioli\, Mei Lin recorded the Goldberg Variations at the Fazioli Concert Hall in Italy\, further affirming her standing as a respected international artist. Mei Lin serves as Artistic Advisor for the Illy Piano Academy and is a guest artist and coach at the International School of Kuala Lumpur. In 2024\, she was featured in Women of Power by Prestige Malaysia. Programme: Astor Piazzolla : Four SeasonsVirtuoso etudes after Gershwin by Earl Wild⁃Liza⁃Embraceable You⁃The Man I Love⁃Fascinating Rhythm -Intermission- Astor Piazzolla : Adios NoninoGeorge Gershwin : Rhapsody In BlueAstor Piazzolla : Libertango  Event Details 12th June 2026 (Friday) 7:30PM to 9:30 PM Block A\, Level 2\, #0314-0315 Kingwood Theatre @ Eco Galleria Iskandar Puteri JBGoogle Map: https://maps.app.goo.gl/TmjsUf2AxZ41Ehmc7 Ticket Link: https://pinsimmusic.com/product/popular-meets-classical-music-by-astor-piazzolla-and-george-gershwin/ Contact: 012-315 1431 								\n				\n				\n				\n									\n					\n						\n									Buy Ticket
URL:https://pinsimmusic.com/event/sonata-immersion/
CATEGORIES:Classical Music,Concert,Piano
ATTACH;FMTTYPE=image/png:https://pinsimmusic.com/wp-content/uploads/2025/11/Lim-Guan-Yi.png
END:VEVENT
BEGIN:VEVENT
DTSTART;TZID=Asia/Singapore:20260410T193000
DTEND;TZID=Asia/Singapore:20260410T213000
DTSTAMP:20260423T172311
CREATED:20260214T184045Z
LAST-MODIFIED:20260224T055802Z
UID:13836-1775849400-1775856600@pinsimmusic.com
SUMMARY:Timeless Keys: Classical Meets Jazz by WVC
DESCRIPTION:Popular Meets Classical: music by Astor Piazzolla and George Gershwin  Step into an evening of refined brilliance with Mei Lin Hii\, where the seductive rhythms of Astor Piazzolla meet the timeless sophistication of George Gershwin. From the haunting lyricism of Adiós Nonino to the glittering virtuosity of Earl Wild’s Gershwin etudes\, and the iconic sweep of Rhapsody in Blue\, this exquisite programme unfolds as a celebration of elegance\, passion\, and artistry—culminating in the intoxicating pulse of Libertango. Refreshing welcome drinks specially crafted by Pinsim will be served upon your arrival. A selection of delectable sweet temptations awaits you during the intermission Our brand-new LED screen is the crowning jewel—confirm it’s gonna blow you away with its jaw-dropping special effects!  Hii Mei Lin | Pianist Mei Lin Hii is an award-winning Malaysian pianist of international acclaim\, recognised as Outstanding Woman Pianist following her Rubinstein Award in New York. A top prizewinner at major international competitions\, she made her debut at Carnegie Hall and has since performed extensively across the United States\, Europe\, Asia\, and Australia. Based in Kuala Lumpur since 2010\, Mei Lin is known for her dynamic cross-disciplinary collaborations\, working with artists ranging from visual and paper artists to hip-hop dancers. Her projects include Sonus Luminus\, a light and sound collaboration with lighting designer Jun Ong\, and she curates the Troika Sky Dining Real Food and Music Series\, partnering with luxury brands such as Dom Pérignon\, Hennessy\, and Krug. She trained at the Manhattan School of Music under renowned pedagogue Zenon Fishbein\, and further refined her artistry through masterclasses with distinguished musicians including Leon Fleisher\, Byron Janis\, and Joseph Kalichstein. She also worked closely with Russian piano master Alexis Golovine in Geneva. An accomplished chamber musician\, Mei Lin has been coached by members of the Juilliard String Quartet and the Beaux Arts Trio\, and has collaborated with artists from the Metropolitan Opera and leading international performers across disciplines. She has performed alongside international artists such as Joja Wendt\, Martin Tingvall\, Caroline Fischer\, Axel Zwingenberger\, and in chamber music with Leslie Tan\, Matyas Major\, Ergys Koni\, William Day\, Elizabeth Tan and many more. Personally invited by Paolo Fazioli\, Mei Lin recorded the Goldberg Variations at the Fazioli Concert Hall in Italy\, further affirming her standing as a respected international artist. Mei Lin serves as Artistic Advisor for the Illy Piano Academy and is a guest artist and coach at the International School of Kuala Lumpur. In 2024\, she was featured in Women of Power by Prestige Malaysia. Programme: Astor Piazzolla : Four SeasonsVirtuoso etudes after Gershwin by Earl Wild⁃Liza⁃Embraceable You⁃The Man I Love⁃Fascinating Rhythm -Intermission- Astor Piazzolla : Adios NoninoGeorge Gershwin : Rhapsody In BlueAstor Piazzolla : Libertango  Event Details 12th June 2026 (Friday) 7:30PM to 9:30 PM Block A\, Level 2\, #0314-0315 Kingwood Theatre @ Eco Galleria Iskandar Puteri JBGoogle Map: https://maps.app.goo.gl/TmjsUf2AxZ41Ehmc7 Ticket Link: https://pinsimmusic.com/product/popular-meets-classical-music-by-astor-piazzolla-and-george-gershwin/ Contact: 012-315 1431 								\n				\n				\n				\n									\n					\n						\n									Buy Ticket
URL:https://pinsimmusic.com/event/https-pinsimmusic-com-product-timeless-keys-classical-meetd-jazz-by-wvc/
CATEGORIES:Jazz
ATTACH;FMTTYPE=image/jpeg:https://pinsimmusic.com/wp-content/uploads/2026/02/Timeless_Keys_Classical_Meets_Jazz_by_WVC_Poster-scaled.jpg
END:VEVENT
BEGIN:VEVENT
DTSTART;TZID=Asia/Singapore:20260516T193000
DTEND;TZID=Asia/Singapore:20260516T213000
DTSTAMP:20260423T172311
CREATED:20260317T144035Z
LAST-MODIFIED:20260413T055742Z
UID:13894-1778959800-1778967000@pinsimmusic.com
SUMMARY:DICHTER-GILA
DESCRIPTION:Popular Meets Classical: music by Astor Piazzolla and George Gershwin  Step into an evening of refined brilliance with Mei Lin Hii\, where the seductive rhythms of Astor Piazzolla meet the timeless sophistication of George Gershwin. From the haunting lyricism of Adiós Nonino to the glittering virtuosity of Earl Wild’s Gershwin etudes\, and the iconic sweep of Rhapsody in Blue\, this exquisite programme unfolds as a celebration of elegance\, passion\, and artistry—culminating in the intoxicating pulse of Libertango. Refreshing welcome drinks specially crafted by Pinsim will be served upon your arrival. A selection of delectable sweet temptations awaits you during the intermission Our brand-new LED screen is the crowning jewel—confirm it’s gonna blow you away with its jaw-dropping special effects!  Hii Mei Lin | Pianist Mei Lin Hii is an award-winning Malaysian pianist of international acclaim\, recognised as Outstanding Woman Pianist following her Rubinstein Award in New York. A top prizewinner at major international competitions\, she made her debut at Carnegie Hall and has since performed extensively across the United States\, Europe\, Asia\, and Australia. Based in Kuala Lumpur since 2010\, Mei Lin is known for her dynamic cross-disciplinary collaborations\, working with artists ranging from visual and paper artists to hip-hop dancers. Her projects include Sonus Luminus\, a light and sound collaboration with lighting designer Jun Ong\, and she curates the Troika Sky Dining Real Food and Music Series\, partnering with luxury brands such as Dom Pérignon\, Hennessy\, and Krug. She trained at the Manhattan School of Music under renowned pedagogue Zenon Fishbein\, and further refined her artistry through masterclasses with distinguished musicians including Leon Fleisher\, Byron Janis\, and Joseph Kalichstein. She also worked closely with Russian piano master Alexis Golovine in Geneva. An accomplished chamber musician\, Mei Lin has been coached by members of the Juilliard String Quartet and the Beaux Arts Trio\, and has collaborated with artists from the Metropolitan Opera and leading international performers across disciplines. She has performed alongside international artists such as Joja Wendt\, Martin Tingvall\, Caroline Fischer\, Axel Zwingenberger\, and in chamber music with Leslie Tan\, Matyas Major\, Ergys Koni\, William Day\, Elizabeth Tan and many more. Personally invited by Paolo Fazioli\, Mei Lin recorded the Goldberg Variations at the Fazioli Concert Hall in Italy\, further affirming her standing as a respected international artist. Mei Lin serves as Artistic Advisor for the Illy Piano Academy and is a guest artist and coach at the International School of Kuala Lumpur. In 2024\, she was featured in Women of Power by Prestige Malaysia. Programme: Astor Piazzolla : Four SeasonsVirtuoso etudes after Gershwin by Earl Wild⁃Liza⁃Embraceable You⁃The Man I Love⁃Fascinating Rhythm -Intermission- Astor Piazzolla : Adios NoninoGeorge Gershwin : Rhapsody In BlueAstor Piazzolla : Libertango  Event Details 12th June 2026 (Friday) 7:30PM to 9:30 PM Block A\, Level 2\, #0314-0315 Kingwood Theatre @ Eco Galleria Iskandar Puteri JBGoogle Map: https://maps.app.goo.gl/TmjsUf2AxZ41Ehmc7 Ticket Link: https://pinsimmusic.com/product/popular-meets-classical-music-by-astor-piazzolla-and-george-gershwin/ Contact: 012-315 1431 								\n				\n				\n				\n									\n					\n						\n									Buy Ticket
URL:https://pinsimmusic.com/event/dichter-gila/
CATEGORIES:Concert,Opera,Piano
ATTACH;FMTTYPE=image/png:https://pinsimmusic.com/wp-content/uploads/2026/03/Dichter-Gila-1.png
END:VEVENT
BEGIN:VEVENT
DTSTART;TZID=Asia/Singapore:20260612T193000
DTEND;TZID=Asia/Singapore:20260612T213000
DTSTAMP:20260423T172311
CREATED:20260422T035958Z
LAST-MODIFIED:20260422T043256Z
UID:14164-1781292600-1781299800@pinsimmusic.com
SUMMARY:Popular Meets Classical: music by Astor Piazzolla and George Gershwin
DESCRIPTION:Popular Meets Classical: music by Astor Piazzolla and George Gershwin  Step into an evening of refined brilliance with Mei Lin Hii\, where the seductive rhythms of Astor Piazzolla meet the timeless sophistication of George Gershwin. From the haunting lyricism of Adiós Nonino to the glittering virtuosity of Earl Wild’s Gershwin etudes\, and the iconic sweep of Rhapsody in Blue\, this exquisite programme unfolds as a celebration of elegance\, passion\, and artistry—culminating in the intoxicating pulse of Libertango. Refreshing welcome drinks specially crafted by Pinsim will be served upon your arrival. A selection of delectable sweet temptations awaits you during the intermission Our brand-new LED screen is the crowning jewel—confirm it’s gonna blow you away with its jaw-dropping special effects!  Hii Mei Lin | Pianist Mei Lin Hii is an award-winning Malaysian pianist of international acclaim\, recognised as Outstanding Woman Pianist following her Rubinstein Award in New York. A top prizewinner at major international competitions\, she made her debut at Carnegie Hall and has since performed extensively across the United States\, Europe\, Asia\, and Australia. Based in Kuala Lumpur since 2010\, Mei Lin is known for her dynamic cross-disciplinary collaborations\, working with artists ranging from visual and paper artists to hip-hop dancers. Her projects include Sonus Luminus\, a light and sound collaboration with lighting designer Jun Ong\, and she curates the Troika Sky Dining Real Food and Music Series\, partnering with luxury brands such as Dom Pérignon\, Hennessy\, and Krug. She trained at the Manhattan School of Music under renowned pedagogue Zenon Fishbein\, and further refined her artistry through masterclasses with distinguished musicians including Leon Fleisher\, Byron Janis\, and Joseph Kalichstein. She also worked closely with Russian piano master Alexis Golovine in Geneva. An accomplished chamber musician\, Mei Lin has been coached by members of the Juilliard String Quartet and the Beaux Arts Trio\, and has collaborated with artists from the Metropolitan Opera and leading international performers across disciplines. She has performed alongside international artists such as Joja Wendt\, Martin Tingvall\, Caroline Fischer\, Axel Zwingenberger\, and in chamber music with Leslie Tan\, Matyas Major\, Ergys Koni\, William Day\, Elizabeth Tan and many more. Personally invited by Paolo Fazioli\, Mei Lin recorded the Goldberg Variations at the Fazioli Concert Hall in Italy\, further affirming her standing as a respected international artist. Mei Lin serves as Artistic Advisor for the Illy Piano Academy and is a guest artist and coach at the International School of Kuala Lumpur. In 2024\, she was featured in Women of Power by Prestige Malaysia. Programme: Astor Piazzolla : Four SeasonsVirtuoso etudes after Gershwin by Earl Wild⁃Liza⁃Embraceable You⁃The Man I Love⁃Fascinating Rhythm -Intermission- Astor Piazzolla : Adios NoninoGeorge Gershwin : Rhapsody In BlueAstor Piazzolla : Libertango  Event Details 12th June 2026 (Friday) 7:30PM to 9:30 PM Block A\, Level 2\, #0314-0315 Kingwood Theatre @ Eco Galleria Iskandar Puteri JBGoogle Map: https://maps.app.goo.gl/TmjsUf2AxZ41Ehmc7 Ticket Link: https://pinsimmusic.com/product/popular-meets-classical-music-by-astor-piazzolla-and-george-gershwin/ Contact: 012-315 1431 								\n				\n				\n				\n									\n					\n						\n									Buy Ticket
URL:https://pinsimmusic.com/event/popular-meets-classical-music-by-astor-piazzolla-and-george-gershwin/
CATEGORIES:Classical Music,Classics,Concert,Piano,Programme Introductions
ATTACH;FMTTYPE=image/png:https://pinsimmusic.com/wp-content/uploads/2026/04/Popular-Meets-Classical-music-by-Astor-Piazzolla-and-George-Gershwin-2.png
END:VEVENT
END:VCALENDAR